Package: ssize Version: 1.84.0 Command: /home/biocbuild/R/R/bin/R CMD INSTALL ssize StartedAt: 2025-11-13 21:03:58 -0000 (Thu, 13 Nov 2025) EndedAt: 2025-11-13 21:04:31 -0000 (Thu, 13 Nov 2025) EllapsedTime: 33.1 seconds RetCode: 0 Status: OK