Package: ssize Version: 1.84.0 Command: /home/biocbuild/R/R/bin/R CMD build --keep-empty-dirs --no-resave-data ssize StartedAt: 2025-11-14 05:45:48 -0000 (Fri, 14 Nov 2025) EndedAt: 2025-11-14 05:45:57 -0000 (Fri, 14 Nov 2025) EllapsedTime: 9.0 seconds RetCode: 0 Status: OK PackageFile: ssize_1.84.0.tar.gz PackageFileSize: 532.3 KiB