Package: ssize Version: 1.84.0 Command: /home/biocbuild/bbs-3.22-bioc/R/bin/R CMD INSTALL ssize StartedAt: 2025-11-11 15:07:14 -0500 (Tue, 11 Nov 2025) EndedAt: 2025-11-11 15:07:28 -0500 (Tue, 11 Nov 2025) EllapsedTime: 14.2 seconds RetCode: 0 Status: OK