Package: ssize Version: 1.84.0 Command: /home/biocbuild/bbs-3.22-bioc/R/bin/R CMD check --install=check:ssize.install-out.txt --library=/home/biocbuild/bbs-3.22-bioc/R/site-library --timings ssize_1.84.0.tar.gz StartedAt: 2025-11-12 04:41:07 -0500 (Wed, 12 Nov 2025) EndedAt: 2025-11-12 04:41:30 -0500 (Wed, 12 Nov 2025) EllapsedTime: 23.0 seconds RetCode: 0 Status: OK CheckDir: ssize.Rcheck Warnings: 0