Package: ssize Version: 1.82.0 Command: rm -rf ssize.buildbin-libdir && mkdir ssize.buildbin-libdir && /Users/biocbuild/BBS/utils/build-universal.sh ssize_1.82.0.tar.gz /Library/Frameworks/R.framework/Resources/bin/R ssize.buildbin-libdir StartedAt: 2025-04-22 01:11:43 -0400 (Tue, 22 Apr 2025) EndedAt: 2025-04-22 01:11:48 -0400 (Tue, 22 Apr 2025) EllapsedTime: 4.6 seconds RetCode: 0 Status: OK PackageFile: ssize_1.82.0.tgz PackageFileSize: 536.2 KiB