Package: ssPATHS Version: 1.24.0 Command: /home/biocbuild/bbs-3.22-bioc/R/bin/R CMD check --install=check:ssPATHS.install-out.txt --library=/home/biocbuild/bbs-3.22-bioc/R/site-library --timings ssPATHS_1.24.0.tar.gz StartedAt: 2025-11-15 04:54:17 -0500 (Sat, 15 Nov 2025) EndedAt: 2025-11-15 04:57:28 -0500 (Sat, 15 Nov 2025) EllapsedTime: 191.2 seconds RetCode: 0 Status: OK CheckDir: ssPATHS.Rcheck Warnings: 0