Package: ssPATHS Version: 1.24.0 Command: /home/biocbuild/bbs-3.22-bioc/R/bin/R CMD build --keep-empty-dirs --no-resave-data --md5 ssPATHS StartedAt: 2025-11-11 20:30:35 -0500 (Tue, 11 Nov 2025) EndedAt: 2025-11-11 20:31:13 -0500 (Tue, 11 Nov 2025) EllapsedTime: 38.1 seconds RetCode: 0 Status: OK PackageFile: ssPATHS_1.24.0.tar.gz PackageFileSize: 3.673 MiB