Package: ssPATHS Version: 1.22.0 Command: /home/biocbuild/bbs-3.21-bioc/R/bin/R CMD INSTALL ssPATHS StartedAt: 2025-10-15 15:21:13 -0400 (Wed, 15 Oct 2025) EndedAt: 2025-10-15 15:21:39 -0400 (Wed, 15 Oct 2025) EllapsedTime: 25.3 seconds RetCode: 0 Status: OK