Package: ssPATHS Version: 1.22.0 Command: rm -rf ssPATHS.buildbin-libdir && mkdir ssPATHS.buildbin-libdir && /Users/biocbuild/BBS/utils/build-universal.sh ssPATHS_1.22.0.tar.gz /Library/Frameworks/R.framework/Resources/bin/R ssPATHS.buildbin-libdir StartedAt: 2025-04-22 01:11:46 -0400 (Tue, 22 Apr 2025) EndedAt: 2025-04-22 01:12:21 -0400 (Tue, 22 Apr 2025) EllapsedTime: 35.8 seconds RetCode: 0 Status: OK PackageFile: ssPATHS_1.22.0.tgz PackageFileSize: 3.704 MiB