Package: ssPATHS Version: 1.22.0 Command: /home/biocbuild/R/R/bin/R CMD INSTALL ssPATHS StartedAt: 2025-09-29 20:35:07 -0000 (Mon, 29 Sep 2025) EndedAt: 2025-09-29 20:35:40 -0000 (Mon, 29 Sep 2025) EllapsedTime: 33.0 seconds RetCode: 0 Status: OK