Package: ssPATHS Version: 1.22.0 Command: /home/biocbuild/R/R/bin/R CMD build --keep-empty-dirs --no-resave-data ssPATHS StartedAt: 2025-09-30 05:41:56 -0000 (Tue, 30 Sep 2025) EndedAt: 2025-09-30 05:42:42 -0000 (Tue, 30 Sep 2025) EllapsedTime: 46.0 seconds RetCode: 0 Status: OK PackageFile: ssPATHS_1.22.0.tar.gz PackageFileSize: 3.668 MiB