Package: ssPATHS Version: 1.24.0 Maintainer: Natalie R. Davidson MaintainerEmail: natalie.davidson at inf.ethz.ch git_url: https://git.bioconductor.org/packages/ssPATHS git_branch: RELEASE_3_22 git_last_commit: 951f8cf git_last_commit_date: 2025-10-29 10:54:57 -0400 (Wed, 29 Oct 2025)