Package: srnadiff Version: 1.30.0 Command: /home/biocbuild/bbs-3.22-bioc/R/bin/R CMD INSTALL srnadiff StartedAt: 2025-11-02 16:08:09 -0500 (Sun, 02 Nov 2025) EndedAt: 2025-11-02 16:09:30 -0500 (Sun, 02 Nov 2025) EllapsedTime: 80.9 seconds RetCode: 0 Status: OK