Package: srnadiff Version: 1.30.0 Command: /home/biocbuild/bbs-3.22-bioc/R/bin/R CMD build --keep-empty-dirs --no-resave-data --md5 srnadiff StartedAt: 2025-11-02 20:36:53 -0500 (Sun, 02 Nov 2025) EndedAt: 2025-11-02 20:38:59 -0500 (Sun, 02 Nov 2025) EllapsedTime: 125.2 seconds RetCode: 0 Status: OK PackageFile: srnadiff_1.30.0.tar.gz PackageFileSize: 2.435 MiB