Package: squallms Version: 1.4.0 Command: /home/biocbuild/bbs-3.22-bioc/R/bin/R CMD INSTALL squallms StartedAt: 2025-10-31 15:54:51 -0400 (Fri, 31 Oct 2025) EndedAt: 2025-10-31 15:55:38 -0400 (Fri, 31 Oct 2025) EllapsedTime: 47.8 seconds RetCode: 0 Status: OK