Package: squallms Version: 1.4.0 Command: /home/biocbuild/bbs-3.22-bioc/R/bin/R CMD build --keep-empty-dirs --no-resave-data --md5 squallms StartedAt: 2025-10-31 20:30:58 -0400 (Fri, 31 Oct 2025) EndedAt: 2025-10-31 20:32:31 -0400 (Fri, 31 Oct 2025) EllapsedTime: 93.1 seconds RetCode: 0 Status: OK PackageFile: squallms_1.4.0.tar.gz PackageFileSize: 2.187 MiB