Package: spoon Version: 1.6.0 Command: /home/biocbuild/bbs-3.22-bioc/R/bin/R CMD INSTALL spoon StartedAt: 2025-11-13 15:23:47 -0500 (Thu, 13 Nov 2025) EndedAt: 2025-11-13 15:24:10 -0500 (Thu, 13 Nov 2025) EllapsedTime: 22.9 seconds RetCode: 0 Status: OK