Package: splots Version: 1.76.0 Command: /home/biocbuild/bbs-3.22-bioc/R/bin/R CMD build --keep-empty-dirs --no-resave-data --md5 splots StartedAt: 2025-11-13 20:25:51 -0500 (Thu, 13 Nov 2025) EndedAt: 2025-11-13 20:26:45 -0500 (Thu, 13 Nov 2025) EllapsedTime: 54.0 seconds RetCode: 0 Status: OK PackageFile: splots_1.76.0.tar.gz PackageFileSize: 669.8 KiB