Package: splots Version: 1.76.0 Command: rm -rf splots.buildbin-libdir && mkdir splots.buildbin-libdir && /Users/biocbuild/BBS/utils/build-universal.sh splots_1.76.0.tar.gz /Library/Frameworks/R.framework/Resources/bin/R splots.buildbin-libdir StartedAt: 2025-11-10 23:38:14 -0500 (Mon, 10 Nov 2025) EndedAt: 2025-11-10 23:38:16 -0500 (Mon, 10 Nov 2025) EllapsedTime: 2.0 seconds RetCode: 0 Status: OK PackageFile: splots_1.76.0.tgz PackageFileSize: 724 KiB