Package: splineTimeR Version: 1.38.0 Command: /home/biocbuild/bbs-3.22-bioc/R/bin/R CMD build --keep-empty-dirs --no-resave-data --md5 splineTimeR StartedAt: 2025-11-11 20:26:40 -0500 (Tue, 11 Nov 2025) EndedAt: 2025-11-11 20:27:19 -0500 (Tue, 11 Nov 2025) EllapsedTime: 39.0 seconds RetCode: 0 Status: OK PackageFile: splineTimeR_1.38.0.tar.gz PackageFileSize: 1.23 MiB