Package: splineTimeR Version: 1.38.0 Command: /Library/Frameworks/R.framework/Resources/bin/R CMD INSTALL splineTimeR StartedAt: 2025-11-03 15:31:05 -0500 (Mon, 03 Nov 2025) EndedAt: 2025-11-03 15:31:26 -0500 (Mon, 03 Nov 2025) EllapsedTime: 21.1 seconds RetCode: 0 Status: OK