Package: splineTimeR Version: 1.38.0 Command: /Library/Frameworks/R.framework/Resources/bin/R CMD build --keep-empty-dirs --no-resave-data splineTimeR StartedAt: 2025-11-03 18:56:45 -0500 (Mon, 03 Nov 2025) EndedAt: 2025-11-03 18:57:38 -0500 (Mon, 03 Nov 2025) EllapsedTime: 53.4 seconds RetCode: 0 Status: OK PackageFile: splineTimeR_1.38.0.tar.gz PackageFileSize: 1.228 MiB