Package: splineTimeR Version: 1.36.0 Command: /home/biocbuild/R/R/bin/R CMD INSTALL splineTimeR StartedAt: 2025-10-06 20:43:44 -0000 (Mon, 06 Oct 2025) EndedAt: 2025-10-06 20:44:07 -0000 (Mon, 06 Oct 2025) EllapsedTime: 22.4 seconds RetCode: 0 Status: OK