Package: splineTimeR Version: 1.36.0 Command: /Library/Frameworks/R.framework/Resources/bin/R CMD build --keep-empty-dirs --no-resave-data splineTimeR StartedAt: 2025-10-14 10:18:37 -0400 (Tue, 14 Oct 2025) EndedAt: 2025-10-14 10:19:38 -0400 (Tue, 14 Oct 2025) EllapsedTime: 60.4 seconds RetCode: 0 Status: OK PackageFile: splineTimeR_1.36.0.tar.gz PackageFileSize: 1.228 MiB