Package: splineTimeR Version: 1.36.0 Command: rm -rf splineTimeR.buildbin-libdir && mkdir splineTimeR.buildbin-libdir && /Users/biocbuild/BBS/utils/build-universal.sh splineTimeR_1.36.0.tar.gz /Library/Frameworks/R.framework/Resources/bin/R splineTimeR.buildbin-libdir StartedAt: 2025-10-15 20:41:18 -0400 (Wed, 15 Oct 2025) EndedAt: 2025-10-15 20:41:38 -0400 (Wed, 15 Oct 2025) EllapsedTime: 20.5 seconds RetCode: 0 Status: OK PackageFile: splineTimeR_1.36.0.tgz PackageFileSize: 1.27 MiB