Package: splatter Version: 1.34.0 Command: /home/biocbuild/bbs-3.22-bioc/R/bin/R CMD INSTALL splatter StartedAt: 2025-11-06 15:21:09 -0500 (Thu, 06 Nov 2025) EndedAt: 2025-11-06 15:21:38 -0500 (Thu, 06 Nov 2025) EllapsedTime: 29.1 seconds RetCode: 0 Status: OK