Package: splatter Version: 1.34.0 Command: /home/biocbuild/bbs-3.22-bioc/R/bin/R CMD build --keep-empty-dirs --no-resave-data --md5 splatter StartedAt: 2025-11-06 20:17:18 -0500 (Thu, 06 Nov 2025) EndedAt: 2025-11-06 20:20:21 -0500 (Thu, 06 Nov 2025) EllapsedTime: 183.1 seconds RetCode: 0 Status: OK PackageFile: splatter_1.34.0.tar.gz PackageFileSize: 6.483 MiB