Package: spkTools Version: 1.66.0 Command: /home/biocbuild/bbs-3.22-bioc/R/bin/R CMD INSTALL spkTools StartedAt: 2025-11-13 15:14:20 -0500 (Thu, 13 Nov 2025) EndedAt: 2025-11-13 15:14:24 -0500 (Thu, 13 Nov 2025) EllapsedTime: 4.1 seconds RetCode: 0 Status: OK