Package: spkTools Version: 1.66.0 Command: /home/biocbuild/bbs-3.22-bioc/R/bin/R CMD check --install=check:spkTools.install-out.txt --library=/home/biocbuild/bbs-3.22-bioc/R/site-library --timings spkTools_1.66.0.tar.gz StartedAt: 2025-11-14 04:34:16 -0500 (Fri, 14 Nov 2025) EndedAt: 2025-11-14 04:35:38 -0500 (Fri, 14 Nov 2025) EllapsedTime: 82.1 seconds RetCode: 0 Status: OK CheckDir: spkTools.Rcheck Warnings: 0