Package: spkTools Version: 1.64.0 Command: /home/biocbuild/bbs-3.21-bioc/R/bin/R CMD check --install=check:spkTools.install-out.txt --library=/home/biocbuild/bbs-3.21-bioc/R/site-library --timings spkTools_1.64.0.tar.gz StartedAt: 2025-09-29 04:00:29 -0400 (Mon, 29 Sep 2025) EndedAt: 2025-09-29 04:01:51 -0400 (Mon, 29 Sep 2025) EllapsedTime: 82.2 seconds RetCode: 0 Status: OK CheckDir: spkTools.Rcheck Warnings: 0