Package: spkTools Version: 1.64.0 Command: /Library/Frameworks/R.framework/Resources/bin/R CMD INSTALL spkTools StartedAt: 2025-09-25 15:23:16 -0400 (Thu, 25 Sep 2025) EndedAt: 2025-09-25 15:23:29 -0400 (Thu, 25 Sep 2025) EllapsedTime: 13.2 seconds RetCode: 0 Status: OK