Package: spkTools Version: 1.64.0 Command: /Library/Frameworks/R.framework/Resources/bin/R CMD check --install=check:spkTools.install-out.txt --library=/Library/Frameworks/R.framework/Resources/library --no-vignettes --timings spkTools_1.64.0.tar.gz StartedAt: 2025-10-14 10:59:08 -0400 (Tue, 14 Oct 2025) EndedAt: 2025-10-14 11:02:05 -0400 (Tue, 14 Oct 2025) EllapsedTime: 177.1 seconds RetCode: 0 Status: OK CheckDir: spkTools.Rcheck Warnings: 0