Package: spkTools Version: 1.64.0 Command: /Library/Frameworks/R.framework/Resources/bin/R CMD check --install=check:spkTools.install-out.txt --library=/Library/Frameworks/R.framework/Resources/library --no-vignettes --timings spkTools_1.64.0.tar.gz StartedAt: 2025-10-01 14:03:49 -0400 (Wed, 01 Oct 2025) EndedAt: 2025-10-01 14:06:06 -0400 (Wed, 01 Oct 2025) EllapsedTime: 136.8 seconds RetCode: 0 Status: OK CheckDir: spkTools.Rcheck Warnings: 0