Package: spillR Version: 1.6.0 Command: /home/biocbuild/bbs-3.22-bioc/R/bin/R CMD build --keep-empty-dirs --no-resave-data --md5 spillR StartedAt: 2025-11-11 20:25:45 -0500 (Tue, 11 Nov 2025) EndedAt: 2025-11-11 20:27:53 -0500 (Tue, 11 Nov 2025) EllapsedTime: 128.1 seconds RetCode: 0 Status: OK PackageFile: spillR_1.6.0.tar.gz PackageFileSize: 429.2 KiB