Package: spillR Version: 1.6.0 Command: /Library/Frameworks/R.framework/Resources/bin/R CMD build --keep-empty-dirs --no-resave-data spillR StartedAt: 2025-11-10 17:52:16 -0500 (Mon, 10 Nov 2025) EndedAt: 2025-11-10 17:53:04 -0500 (Mon, 10 Nov 2025) EllapsedTime: 47.5 seconds RetCode: 0 Status: OK PackageFile: spillR_1.6.0.tar.gz PackageFileSize: 564.1 KiB