Package: spiky Version: 1.16.0 Command: /home/biocbuild/bbs-3.22-bioc/R/bin/R CMD INSTALL spiky StartedAt: 2025-10-31 15:42:53 -0400 (Fri, 31 Oct 2025) EndedAt: 2025-10-31 15:43:37 -0400 (Fri, 31 Oct 2025) EllapsedTime: 43.8 seconds RetCode: 0 Status: OK