Package: spiky Version: 1.16.0 Command: /home/biocbuild/bbs-3.22-bioc/R/bin/R CMD build --keep-empty-dirs --no-resave-data --md5 spiky StartedAt: 2025-10-31 20:27:01 -0400 (Fri, 31 Oct 2025) EndedAt: 2025-10-31 20:28:36 -0400 (Fri, 31 Oct 2025) EllapsedTime: 95.1 seconds RetCode: 0 Status: OK PackageFile: spiky_1.16.0.tar.gz PackageFileSize: 14.31 MiB