Package: spikeLI Version: 2.70.0 Command: /home/biocbuild/bbs-3.22-bioc/R/bin/R CMD build --keep-empty-dirs --no-resave-data --md5 spikeLI StartedAt: 2025-11-11 20:25:31 -0500 (Tue, 11 Nov 2025) EndedAt: 2025-11-11 20:25:37 -0500 (Tue, 11 Nov 2025) EllapsedTime: 6.0 seconds RetCode: 0 Status: OK PackageFile: spikeLI_2.70.0.tar.gz PackageFileSize: 394.7 KiB