Package: spikeLI Version: 2.68.0 Command: /home/biocbuild/R/R/bin/R CMD INSTALL spikeLI StartedAt: 2025-10-13 20:13:13 -0000 (Mon, 13 Oct 2025) EndedAt: 2025-10-13 20:13:42 -0000 (Mon, 13 Oct 2025) EllapsedTime: 28.6 seconds RetCode: 0 Status: OK