Package: spikeLI Version: 2.70.0 Command: rm -rf spikeLI.buildbin-libdir && mkdir spikeLI.buildbin-libdir && /Users/biocbuild/BBS/utils/build-universal.sh spikeLI_2.70.0.tar.gz /Library/Frameworks/R.framework/Resources/bin/R spikeLI.buildbin-libdir StartedAt: 2025-11-06 23:23:10 -0500 (Thu, 06 Nov 2025) EndedAt: 2025-11-06 23:23:12 -0500 (Thu, 06 Nov 2025) EllapsedTime: 2.0 seconds RetCode: 0 Status: OK PackageFile: spikeLI_2.70.0.tgz PackageFileSize: 418.7 KiB