Package: spicyR Version: 1.22.0 Command: /home/biocbuild/bbs-3.22-bioc/R/bin/R CMD INSTALL spicyR StartedAt: 2025-11-11 15:41:51 -0500 (Tue, 11 Nov 2025) EndedAt: 2025-11-11 15:42:28 -0500 (Tue, 11 Nov 2025) EllapsedTime: 37.0 seconds RetCode: 0 Status: OK