Package: spicyR Version: 1.22.0 Command: /home/biocbuild/bbs-3.22-bioc/R/bin/R CMD build --keep-empty-dirs --no-resave-data --md5 spicyR StartedAt: 2025-11-11 20:25:29 -0500 (Tue, 11 Nov 2025) EndedAt: 2025-11-11 20:30:22 -0500 (Tue, 11 Nov 2025) EllapsedTime: 293.2 seconds RetCode: 0 Status: OK PackageFile: spicyR_1.22.0.tar.gz PackageFileSize: 3.149 MiB