Package: spicyR Version: 1.20.5 Command: /home/biocbuild/R/R/bin/R CMD INSTALL spicyR StartedAt: 2025-10-13 20:54:15 -0000 (Mon, 13 Oct 2025) EndedAt: 2025-10-13 20:55:10 -0000 (Mon, 13 Oct 2025) EllapsedTime: 54.4 seconds RetCode: 0 Status: OK