Package: spicyR Version: 1.20.5 Command: /home/biocbuild/R/R/bin/R CMD build --keep-empty-dirs --no-resave-data spicyR StartedAt: 2025-10-14 05:01:14 -0000 (Tue, 14 Oct 2025) EndedAt: 2025-10-14 05:09:00 -0000 (Tue, 14 Oct 2025) EllapsedTime: 466.2 seconds RetCode: 0 Status: OK PackageFile: spicyR_1.20.5.tar.gz PackageFileSize: 3.202 MiB