Package: spicyR Version: 1.22.0 Command: /Library/Frameworks/R.framework/Resources/bin/R CMD INSTALL spicyR StartedAt: 2025-11-06 15:14:47 -0500 (Thu, 06 Nov 2025) EndedAt: 2025-11-06 15:15:02 -0500 (Thu, 06 Nov 2025) EllapsedTime: 14.9 seconds RetCode: 0 Status: OK