Package: spicyR Version: 1.22.0 Command: /Library/Frameworks/R.framework/Resources/bin/R CMD build --keep-empty-dirs --no-resave-data spicyR StartedAt: 2025-11-06 17:51:28 -0500 (Thu, 06 Nov 2025) EndedAt: 2025-11-06 17:53:25 -0500 (Thu, 06 Nov 2025) EllapsedTime: 116.3 seconds RetCode: 0 Status: OK PackageFile: spicyR_1.22.0.tar.gz PackageFileSize: 3.273 MiB