Package: spicyR Version: 1.22.0 Command: rm -rf spicyR.buildbin-libdir && mkdir spicyR.buildbin-libdir && /Users/biocbuild/BBS/utils/build-universal.sh spicyR_1.22.0.tar.gz /Library/Frameworks/R.framework/Resources/bin/R spicyR.buildbin-libdir StartedAt: 2025-11-06 23:23:10 -0500 (Thu, 06 Nov 2025) EndedAt: 2025-11-06 23:23:27 -0500 (Thu, 06 Nov 2025) EllapsedTime: 16.3 seconds RetCode: 0 Status: OK PackageFile: spicyR_1.22.0.tgz PackageFileSize: 3.847 MiB