Package: speckle Version: 1.10.0 Command: /home/biocbuild/bbs-3.22-bioc/R/bin/R CMD check --install=check:speckle.install-out.txt --library=/home/biocbuild/bbs-3.22-bioc/R/site-library --timings speckle_1.10.0.tar.gz StartedAt: 2025-11-21 04:59:22 -0500 (Fri, 21 Nov 2025) EndedAt: 2025-11-21 05:04:17 -0500 (Fri, 21 Nov 2025) EllapsedTime: 295.3 seconds RetCode: 0 Status: OK CheckDir: speckle.Rcheck Warnings: 0