Package: speckle Version: 1.10.0 Command: /Library/Frameworks/R.framework/Resources/bin/R CMD INSTALL speckle StartedAt: 2025-11-03 15:29:36 -0500 (Mon, 03 Nov 2025) EndedAt: 2025-11-03 15:30:27 -0500 (Mon, 03 Nov 2025) EllapsedTime: 50.4 seconds RetCode: 0 Status: OK