Package: speckle Version: 1.10.0 Command: rm -rf speckle.buildbin-libdir && mkdir speckle.buildbin-libdir && /Users/biocbuild/BBS/utils/build-universal.sh speckle_1.10.0.tar.gz /Library/Frameworks/R.framework/Resources/bin/R speckle.buildbin-libdir StartedAt: 2025-11-04 02:06:17 -0500 (Tue, 04 Nov 2025) EndedAt: 2025-11-04 02:07:11 -0500 (Tue, 04 Nov 2025) EllapsedTime: 54.3 seconds RetCode: 0 Status: OK PackageFile: speckle_1.10.0.tgz PackageFileSize: 1.399 MiB